BEGIN:VCALENDAR
VERSION:2.0
PRODID:-//Realms of Dance® - ECPv6.15.13.1//NONSGML v1.0//EN
CALSCALE:GREGORIAN
METHOD:PUBLISH
X-ORIGINAL-URL:https://realmsofdance.com
X-WR-CALDESC:Events for Realms of Dance®
REFRESH-INTERVAL;VALUE=DURATION:PT1H
X-Robots-Tag:noindex
X-PUBLISHED-TTL:PT1H
BEGIN:VTIMEZONE
TZID:Asia/Kolkata
BEGIN:STANDARD
TZOFFSETFROM:+0530
TZOFFSETTO:+0530
TZNAME:IST
DTSTART:20240101T000000
END:STANDARD
END:VTIMEZONE
BEGIN:VEVENT
DTSTART;TZID=Asia/Kolkata:20250619T140000
DTEND;TZID=Asia/Kolkata:20250622T220000
DTSTAMP:20260421T103905
CREATED:20250530T083825Z
LAST-MODIFIED:20250606T184435Z
UID:23140-1750341600-1750629600@realmsofdance.com
SUMMARY:A Sacred Dance Residential Retreat
DESCRIPTION:Within and around\n\n\n\n\n\n\n\n\n\n\n\n\n\nA sacred dance retreat presenting\n\n\n\n\n– Gurdjieff Movements\n\n\n\n– Whirling Mandala®\n\n\n\n– Centering & awareness exercises\n\n\n\n⁠- Meditation & contemplation circles\n\n\n\n– Nature excursions nearby\n\n\n\n– Hybrid course\, attend online.\n\n\n\n\n\n\n\n\nAt Panchgani(Asia Plateau\, Panchgani 412 805\, Maharashtra\, India)HYBRID(In person & online)Facilitated byZia Nathfor Awareness FoundationAssistant SupportMayuree PanditZankhana Joshi \n\n\n\nKnow more in details
URL:https://realmsofdance.com/event/a-sacred-dance-residential-retreat/
CATEGORIES:Sacred Dance,Workshop
ATTACH;FMTTYPE=image/jpeg:https://realmsofdance.com/wp-content/uploads/2025/05/JOURNEY-TO-THE-INACCESSIBLE.jpg
END:VEVENT
END:VCALENDAR