BEGIN:VCALENDAR
VERSION:2.0
PRODID:-//Realms of Dance® - ECPv6.15.13.1//NONSGML v1.0//EN
CALSCALE:GREGORIAN
METHOD:PUBLISH
X-WR-CALNAME:Realms of Dance®
X-ORIGINAL-URL:https://realmsofdance.com
X-WR-CALDESC:Events for Realms of Dance®
REFRESH-INTERVAL;VALUE=DURATION:PT1H
X-Robots-Tag:noindex
X-PUBLISHED-TTL:PT1H
BEGIN:VTIMEZONE
TZID:Asia/Kolkata
BEGIN:STANDARD
TZOFFSETFROM:+0530
TZOFFSETTO:+0530
TZNAME:IST
DTSTART:20180101T000000
END:STANDARD
END:VTIMEZONE
BEGIN:VEVENT
DTSTART;TZID=Asia/Kolkata:20190704T080000
DTEND;TZID=Asia/Kolkata:20190704T170000
DTSTAMP:20260420T225045
CREATED:20210330T172849Z
LAST-MODIFIED:20210330T174141Z
UID:507-1562227200-1562259600@realmsofdance.com
SUMMARY:DANCE WITH JOY
DESCRIPTION:Performance for DANCE WITH JOY with Arts In Motion Team. \nPresenting a couple of new pieces – Indian Contemporary with live music Pakistani Style by Uday Chandra & a new creative in Whirling Mandala. \nBeating Depression\, Healing Yourself\, the show supports mental health awareness and spreading joy through dance held at St Andrews Auditorium\, Bandra on 4th July 2019.
URL:https://realmsofdance.com/event/dance-with-joy/
LOCATION:Arts in Motion\, Mumbai\, India
CATEGORIES:Performance
END:VEVENT
END:VCALENDAR