BEGIN:VCALENDAR
VERSION:2.0
PRODID:-//Realms of Dance® - ECPv6.15.13.1//NONSGML v1.0//EN
CALSCALE:GREGORIAN
METHOD:PUBLISH
X-WR-CALNAME:Realms of Dance®
X-ORIGINAL-URL:https://realmsofdance.com
X-WR-CALDESC:Events for Realms of Dance®
REFRESH-INTERVAL;VALUE=DURATION:PT1H
X-Robots-Tag:noindex
X-PUBLISHED-TTL:PT1H
BEGIN:VTIMEZONE
TZID:Asia/Kolkata
BEGIN:STANDARD
TZOFFSETFROM:+0530
TZOFFSETTO:+0530
TZNAME:IST
DTSTART:20180101T000000
END:STANDARD
END:VTIMEZONE
BEGIN:VEVENT
DTSTART;TZID=Asia/Kolkata:20190118T183000
DTEND;TZID=Asia/Kolkata:20190118T210000
DTSTAMP:20260421T103057
CREATED:20210723T155859Z
LAST-MODIFIED:20210723T155859Z
UID:2659-1547836200-1547845200@realmsofdance.com
SUMMARY:Sacred Whirling Community\, Thriive Art & Soul
DESCRIPTION:Thriive Art & Soul\, in collaboration with Zia Nath – renowed sacred danseuse and founder of Whirling Mandala is thrilled to announce Mumbai’s first sacred dance whirling community. \nWhirling is a great way to explore your soul\, embark on a new adventure\, and stay fit! And the best part anyone and everyone can do it! \nMumbai\, come join us for the launch of India’s first and only Sacred Whirling Community on Friday\, 18th January 2019\, from 6:30pm to 9:00pm\, at The Imperial Towers\, Mumbai\, Tardeo. \nCall 7506424584/ Email : events@thriive.in to REGISTER NOW.
URL:https://realmsofdance.com/event/sacred-whirling-community-thriive-art-soul/
CATEGORIES:Workshop
END:VEVENT
END:VCALENDAR